BEGIN:VCALENDAR
VERSION:2.0
PRODID:-//Ephraim - ECPv6.15.17.1//NONSGML v1.0//EN
CALSCALE:GREGORIAN
METHOD:PUBLISH
X-WR-CALNAME:Ephraim
X-ORIGINAL-URL:https://ephraim-doorcounty.com
X-WR-CALDESC:Events for Ephraim
REFRESH-INTERVAL;VALUE=DURATION:PT1H
X-Robots-Tag:noindex
X-PUBLISHED-TTL:PT1H
BEGIN:VTIMEZONE
TZID:America/Chicago
BEGIN:DAYLIGHT
TZOFFSETFROM:-0600
TZOFFSETTO:-0500
TZNAME:CDT
DTSTART:20230312T080000
END:DAYLIGHT
BEGIN:STANDARD
TZOFFSETFROM:-0500
TZOFFSETTO:-0600
TZNAME:CST
DTSTART:20231105T070000
END:STANDARD
BEGIN:DAYLIGHT
TZOFFSETFROM:-0600
TZOFFSETTO:-0500
TZNAME:CDT
DTSTART:20240310T080000
END:DAYLIGHT
BEGIN:STANDARD
TZOFFSETFROM:-0500
TZOFFSETTO:-0600
TZNAME:CST
DTSTART:20241103T070000
END:STANDARD
BEGIN:DAYLIGHT
TZOFFSETFROM:-0600
TZOFFSETTO:-0500
TZNAME:CDT
DTSTART:20250309T080000
END:DAYLIGHT
BEGIN:STANDARD
TZOFFSETFROM:-0500
TZOFFSETTO:-0600
TZNAME:CST
DTSTART:20251102T070000
END:STANDARD
END:VTIMEZONE
BEGIN:VEVENT
DTSTART;TZID=America/Chicago:20240905T130000
DTEND;TZID=America/Chicago:20240905T140000
DTSTAMP:20260419T074901
CREATED:20240806T213629Z
LAST-MODIFIED:20240806T213635Z
UID:10000048-1725541200-1725544800@ephraim-doorcounty.com
SUMMARY:Roots of Our Village: Iverson House and Moravian Church
DESCRIPTION:Tour the Iverson House and the Ephraim Moravian Church. Advance registration recommended by 10 AM the day of the tour. Meet at Moravian Church\, 9970 Moravia St. \nPark on Moravia St or in the upper lot behind the church. \nTour is free of charge\, but donations appreciated to fund historic restoration.
URL:https://ephraim-doorcounty.com/local-event/roots-of-our-village-iverson-house-and-moravian-church/
LOCATION:Ephraim Moravian Church\, 9970 Moravia Street\, Ephraim\, WI\, 54211\, United States
ORGANIZER;CN="Ephraim Historical Foundation":MAILTO:kanderson@ephraim.org
END:VEVENT
BEGIN:VEVENT
DTSTART;TZID=America/Chicago:20240808T130000
DTEND;TZID=America/Chicago:20240808T140000
DTSTAMP:20260419T074901
CREATED:20240806T215336Z
LAST-MODIFIED:20240806T215336Z
UID:10000052-1723122000-1723125600@ephraim-doorcounty.com
SUMMARY:Roots of Our Village: Iverson House and Moravian Church
DESCRIPTION:Tour the Iverson House and the Ephraim Moravian Church. Advance registration recommended by 10 AM the day of the tour. Meet at Moravian Church\, 9970 Moravia St. \nPark on Moravia St or in the upper lot behind the church. \nTour is free or charge\, but donations appreciated to fund historic restoration.
URL:https://ephraim-doorcounty.com/local-event/roots-of-our-village-iverson-house-and-moravian-church-2/
LOCATION:Ephraim Moravian Church\, 9970 Moravia Street\, Ephraim\, WI\, 54211\, United States
ORGANIZER;CN="Ephraim Historical Foundation":MAILTO:kanderson@ephraim.org
END:VEVENT
BEGIN:VEVENT
DTSTART;TZID=America/Chicago:20240707T163000
DTEND;TZID=America/Chicago:20240707T173000
DTSTAMP:20260419T074901
CREATED:20240419T032556Z
LAST-MODIFIED:20240419T032556Z
UID:10000018-1720369800-1720373400@ephraim-doorcounty.com
SUMMARY:Colin & Friends FREE Concerts
DESCRIPTION:Colin & Friends Concerts presents FREE concerts\, 2 p.m. and 4:30 p.m. with the Fourth of July theme. Great music by Colin Welford on organ and piano\, special guests\, a lot of fun. Wear red\, white and blue and come with your friends!
URL:https://ephraim-doorcounty.com/local-event/colin-friends-free-concerts-3/
LOCATION:Ephraim Moravian Church\, 9970 Moravia Street\, Ephraim\, WI\, 54211\, United States
ORGANIZER;CN="Colin and Friends Concerts":MAILTO:colinandfriendsconcerts@gmail.com
END:VEVENT
BEGIN:VEVENT
DTSTART;TZID=America/Chicago:20240707T140000
DTEND;TZID=America/Chicago:20240707T150000
DTSTAMP:20260419T074901
CREATED:20240419T032428Z
LAST-MODIFIED:20240419T032428Z
UID:10000017-1720360800-1720364400@ephraim-doorcounty.com
SUMMARY:Colin & Friends FREE Concerts
DESCRIPTION:Colin & Friends Concerts presents FREE concerts\, 2 p.m. and 4:30 p.m. with the Fourth of July theme. Great music by Colin Welford on organ and piano\, special guests\, a lot of fun. Wear red\, white and blue and come with your friends!
URL:https://ephraim-doorcounty.com/local-event/colin-friends-free-concerts-2/
LOCATION:Ephraim Moravian Church\, 9970 Moravia Street\, Ephraim\, WI\, 54211\, United States
ORGANIZER;CN="Colin and Friends Concerts":MAILTO:colinandfriendsconcerts@gmail.com
END:VEVENT
BEGIN:VEVENT
DTSTART;TZID=America/Chicago:20240615T160000
DTEND;TZID=America/Chicago:20240615T170000
DTSTAMP:20260419T074901
CREATED:20240418T035354Z
LAST-MODIFIED:20240419T032231Z
UID:10000012-1718467200-1718470800@ephraim-doorcounty.com
SUMMARY:Fyr Bal Colin & Friends Concert
DESCRIPTION:World renowned Colin Welford on the organ with great musical guests. A fun hour of upbeat musical entertainment celebrating all our European ancestry in a fresh way. \nThe concert is FREE! No parking available on Saturday\, foot traffic only. Join us from the Village\, just a walk up the stairs past the Hillside in to the Moravian church on the hill. First come first served seating.
URL:https://ephraim-doorcounty.com/local-event/fyr-bal-colin-and-friends-concert/
LOCATION:Ephraim Moravian Church\, 9970 Moravia Street\, Ephraim\, WI\, 54211\, United States
ORGANIZER;CN="Colin and Friends Concerts":MAILTO:marciacellis@gmail.com
END:VEVENT
BEGIN:VEVENT
DTSTART;TZID=America/Chicago:20240614T163000
DTEND;TZID=America/Chicago:20240614T173000
DTSTAMP:20260419T074901
CREATED:20240419T032130Z
LAST-MODIFIED:20240419T032130Z
UID:10000016-1718382600-1718386200@ephraim-doorcounty.com
SUMMARY:Colin & Friends Special Fyr Bal Concerts!
DESCRIPTION:FREE Colin & Friends concerts\, at 2 p.m. and 4:30 p.m. Special Fyr Bal theme! Great music with Colin Welford on organ and piano\, special guests\, always lots of fun. Come and bring your friends. No ludefisk allowed!
URL:https://ephraim-doorcounty.com/local-event/colin-friends-special-fyr-bal-concerts-2/
LOCATION:Ephraim Moravian Church\, 9970 Moravia Street\, Ephraim\, WI\, 54211\, United States
ORGANIZER;CN="Colin and Friends Concerts":MAILTO:colinandfriendsconcerts@gmail.com
END:VEVENT
BEGIN:VEVENT
DTSTART;TZID=America/Chicago:20240614T140000
DTEND;TZID=America/Chicago:20240614T150000
DTSTAMP:20260419T074901
CREATED:20240419T031804Z
LAST-MODIFIED:20240419T031804Z
UID:10000015-1718373600-1718377200@ephraim-doorcounty.com
SUMMARY:Colin & Friends Special Fyr Bal Concerts!
DESCRIPTION:FREE Colin & Friends concerts\, at 2 p.m. and 4:30 p.m. Special Fyr Bal theme! Great music with Colin Welford on organ and piano\, special guests\, always lots of fun. Come and bring your friends. No ludefisk allowed!
URL:https://ephraim-doorcounty.com/local-event/colin-friends-special-fyr-bal-concerts/
LOCATION:Ephraim Moravian Church\, 9970 Moravia Street\, Ephraim\, WI\, 54211\, United States
ORGANIZER;CN="Colin and Friends Concerts":MAILTO:colinandfriendsconcerts@gmail.com
END:VEVENT
BEGIN:VEVENT
DTSTART;TZID=America/Chicago:20240519T163000
DTEND;TZID=America/Chicago:20240519T173000
DTSTAMP:20260419T074901
CREATED:20240419T031427Z
LAST-MODIFIED:20240419T031427Z
UID:10000014-1716136200-1716139800@ephraim-doorcounty.com
SUMMARY:Colin & Friends FREE Concerts
DESCRIPTION:TWO free concerts today\, at 2 p.m. and 4:30 p.m. Great fun\, great music with Colin Welford on the organ and piano\, special guests. Come and bring your friends!
URL:https://ephraim-doorcounty.com/local-event/colin-friends-free-concerts/
LOCATION:Ephraim Moravian Church\, 9970 Moravia Street\, Ephraim\, WI\, 54211\, United States
ORGANIZER;CN="Colin and Friends Concerts":MAILTO:colinandfriendsconcerts@gmail.com
END:VEVENT
BEGIN:VEVENT
DTSTART;TZID=America/Chicago:20240519T140000
DTEND;TZID=America/Chicago:20240519T150000
DTSTAMP:20260419T074901
CREATED:20240419T031235Z
LAST-MODIFIED:20240419T032201Z
UID:10000013-1716127200-1716130800@ephraim-doorcounty.com
SUMMARY:Colin & Friends FREE Concerts
DESCRIPTION:TWO free concerts today\, at 2 p.m. and 4:30 p.m. Great fun\, great music with Colin Welford on the organ and piano\, special guests. Come and bring your friends!
URL:https://ephraim-doorcounty.com/local-event/colin-and-friends-free-concerts/
LOCATION:Ephraim Moravian Church\, 9970 Moravia Street\, Ephraim\, WI\, 54211\, United States
ORGANIZER;CN="Colin and Friends Concerts":MAILTO:colinandfriendsconcerts@gmail.com
END:VEVENT
END:VCALENDAR