BEGIN:VCALENDAR
VERSION:2.0
PRODID:-//Ephraim - ECPv6.15.20//NONSGML v1.0//EN
CALSCALE:GREGORIAN
METHOD:PUBLISH
X-ORIGINAL-URL:https://ephraim-doorcounty.com
X-WR-CALDESC:Events for Ephraim
REFRESH-INTERVAL;VALUE=DURATION:PT1H
X-Robots-Tag:noindex
X-PUBLISHED-TTL:PT1H
BEGIN:VTIMEZONE
TZID:America/Chicago
BEGIN:DAYLIGHT
TZOFFSETFROM:-0600
TZOFFSETTO:-0500
TZNAME:CDT
DTSTART:20230312T080000
END:DAYLIGHT
BEGIN:STANDARD
TZOFFSETFROM:-0500
TZOFFSETTO:-0600
TZNAME:CST
DTSTART:20231105T070000
END:STANDARD
BEGIN:DAYLIGHT
TZOFFSETFROM:-0600
TZOFFSETTO:-0500
TZNAME:CDT
DTSTART:20240310T080000
END:DAYLIGHT
BEGIN:STANDARD
TZOFFSETFROM:-0500
TZOFFSETTO:-0600
TZNAME:CST
DTSTART:20241103T070000
END:STANDARD
BEGIN:DAYLIGHT
TZOFFSETFROM:-0600
TZOFFSETTO:-0500
TZNAME:CDT
DTSTART:20250309T080000
END:DAYLIGHT
BEGIN:STANDARD
TZOFFSETFROM:-0500
TZOFFSETTO:-0600
TZNAME:CST
DTSTART:20251102T070000
END:STANDARD
BEGIN:DAYLIGHT
TZOFFSETFROM:-0600
TZOFFSETTO:-0500
TZNAME:CDT
DTSTART:20260308T080000
END:DAYLIGHT
BEGIN:STANDARD
TZOFFSETFROM:-0500
TZOFFSETTO:-0600
TZNAME:CST
DTSTART:20261101T070000
END:STANDARD
END:VTIMEZONE
BEGIN:VEVENT
DTSTART;TZID=America/Chicago:20250917T093000
DTEND;TZID=America/Chicago:20250917T110000
DTSTAMP:20260423T071247
CREATED:20250604T125305Z
LAST-MODIFIED:20250604T125305Z
UID:10000109-1758101400-1758106800@ephraim-doorcounty.com
SUMMARY:Book Club on Svalhus Lawn: "The Light is Ours"
DESCRIPTION:To learn more or to join our email list\, visit: https://www.ephraim.org/book-club \nThe Ephraim Historical Foundation Book Club invites readers of all backgrounds to join a welcoming community of lifelong learners with a shared love for history\, literature\, and conversation. \nEach month\, starting in June\, we select a compelling book—ranging from historical fiction to nonfiction titles—that connects to the rich heritage of Ephraim\, Door County\, and beyond.\nWhether you’re a year-round local or a summer visitor\, you’re welcome to join us on the Anderson Barn Museum lawn on the 3rd Wednesday of every month to engage in discussion and with others who appreciate thoughtful storytelling. \nThe Ephraim Historical Foundation’s Book Club is free and open to all.
URL:https://ephraim-doorcounty.com/local-event/book-club-on-svalhus-lawn-the-light-is-ours/
LOCATION:Ephraim Historical Foundation\, 3060 Anderson Lane\, Ephraim\, WI\, 54211\, United States
ATTACH;FMTTYPE=image/jpeg:https://ephraim-doorcounty.com/wp-content/uploads/book-club.jpg
ORGANIZER;CN="Ephraim Historical Foundation":MAILTO:info@ephraim.org
END:VEVENT
BEGIN:VEVENT
DTSTART;TZID=America/Chicago:20250820T093000
DTEND;TZID=America/Chicago:20250820T110000
DTSTAMP:20260423T071247
CREATED:20250604T125449Z
LAST-MODIFIED:20250604T125449Z
UID:10000110-1755682200-1755687600@ephraim-doorcounty.com
SUMMARY:Book Club on Svalhus Lawn: "Horseshoe Island: The Folda Years"
DESCRIPTION:To learn more or to join our email list\, visit: https://www.ephraim.org/book-club \nThe Ephraim Historical Foundation Book Club invites readers of all backgrounds to join a welcoming community of lifelong learners with a shared love for history\, literature\, and conversation. \nEach month\, starting in June\, we select a compelling book—ranging from historical fiction to nonfiction titles—that connects to the rich heritage of Ephraim\, Door County\, and beyond. \nWhether you’re a year-round local or a summer visitor\, you’re welcome to join us on the Anderson Barn Museum lawn on the 3rd Wednesday of every month to engage in discussion and with others who appreciate thoughtful storytelling. \nThe Ephraim Historical Foundation’s Book Club is free and open to all.
URL:https://ephraim-doorcounty.com/local-event/book-club-on-svalhus-lawn-horseshoe-island-the-folda-years/
LOCATION:Ephraim Historical Foundation\, 3060 Anderson Lane\, Ephraim\, WI\, 54211\, United States
ATTACH;FMTTYPE=image/jpeg:https://ephraim-doorcounty.com/wp-content/uploads/book-club.jpg
ORGANIZER;CN="Ephraim Historical Foundation":MAILTO:info@ephraim.org
END:VEVENT
BEGIN:VEVENT
DTSTART;TZID=America/Chicago:20250811T090000
DTEND;TZID=America/Chicago:20250812T170000
DTSTAMP:20260423T071247
CREATED:20250604T123629Z
LAST-MODIFIED:20250604T123629Z
UID:10000104-1754902800-1755018000@ephraim-doorcounty.com
SUMMARY:Beginner's Rosemaling Class
DESCRIPTION:This Rosemaling Class is a 2-Day Course taking place at the Ephraim Historical Foundation (3060 Anderson Lane) on August 11th & 12th. \nCost: $300/Student\, $250/EHF Members \nProject: Painted Plates in the Hallingdal Style. \nItinerary: \nAugust 11th: 10am to 5pm \nMorning: Meet at the Ephraim Historical Foundation \nTour of Binkhaven (https://binkhaven.com/) \nLunch provided (Fish Creek Market)\, Tea/Coffee \nAfternoon: Return to the EHF for instruction and practicing basic Hallingdal technique. \nAugust 12th: 9am to 5pm \nMorning: Full day of instruction at Ephraim Historical Foundation to continue learning the fundamentals of Rosemaling. \nLunch provided (Culinaria)\, Tea/Coffee \nBy the end of the class\, participants will have painted their very own 8” wooden plate and will leave class with the knowledge and a detailed supply list to continue this Nordic craft on their own! \nRegister for the class here: https://www.ephraim.org/rosemaling
URL:https://ephraim-doorcounty.com/local-event/beginners-rosemaling-class/
LOCATION:Ephraim Historical Foundation\, 3060 Anderson Lane\, Ephraim\, WI\, 54211\, United States
ATTACH;FMTTYPE=image/jpeg:https://ephraim-doorcounty.com/wp-content/uploads/rosemal.jpg
ORGANIZER;CN="Ephraim Historical Foundation":MAILTO:info@ephraim.org
END:VEVENT
BEGIN:VEVENT
DTSTART;TZID=America/Chicago:20250717T093000
DTEND;TZID=America/Chicago:20250717T110000
DTSTAMP:20260423T071247
CREATED:20250604T125627Z
LAST-MODIFIED:20250604T125627Z
UID:10000111-1752744600-1752750000@ephraim-doorcounty.com
SUMMARY:Book Club on Svalhus Lawn: "On Both Sides of the Ocean- A Part of Per Hagen's Journey"
DESCRIPTION:The Ephraim Historical Foundation Book Club invites readers of all backgrounds to join a welcoming community of lifelong learners with a shared love for history\, literature\, and conversation. \nEach month\, starting in June\, we select a compelling book—ranging from historical fiction to nonfiction titles—that connects to the rich heritage of Ephraim\, Door County\, and beyond. \nWhether you’re a year-round local or a summer visitor\, you’re welcome to join us on the Anderson Barn Museum lawn on the 3rd Wednesday of every month to engage in discussion and with others who appreciate thoughtful storytelling. \nTo learn more or to join our email notifications visit: https://www.ephraim.org/book-clu
URL:https://ephraim-doorcounty.com/local-event/book-club-on-svalhus-lawn-on-both-sides-of-the-ocean-a-part-of-per-hagens-journey/
LOCATION:Ephraim Historical Foundation\, 3060 Anderson Lane\, Ephraim\, WI\, 54211\, United States
ATTACH;FMTTYPE=image/jpeg:https://ephraim-doorcounty.com/wp-content/uploads/book-club.jpg
ORGANIZER;CN="Ephraim Historical Foundation":MAILTO:info@ephraim.org
END:VEVENT
BEGIN:VEVENT
DTSTART;TZID=America/Chicago:20250618T093000
DTEND;TZID=America/Chicago:20250618T110000
DTSTAMP:20260423T071247
CREATED:20250604T125802Z
LAST-MODIFIED:20250604T125802Z
UID:10000112-1750239000-1750244400@ephraim-doorcounty.com
SUMMARY:Book Club on Svalhus Lawn: "Did the Eagle Get You\, Dr. Moss?"
DESCRIPTION:Exploring History\, One Page at a Time. \nThe Ephraim Historical Foundation Book Club invites readers of all backgrounds to join a welcoming community of lifelong learners with a shared love for history\, literature\, and conversation. \nEach month\, starting in June\, we select a compelling book—ranging from historical fiction to nonfiction titles—that connects to the rich heritage of Ephraim\, Door County\, and beyond. \nWhether you’re a year-round local or a summer visitor\, you’re welcome to join us on the Anderson Barn Museum lawn on the 3rd Wednesday of every month to engage in discussion and with others who appreciate thoughtful storytelling. \nFor more information or to join our email notification list\, visit: https://www.ephraim.org/book-club
URL:https://ephraim-doorcounty.com/local-event/book-club-on-svalhus-lawn-did-the-eagle-get-you-dr-moss/
LOCATION:Ephraim Historical Foundation\, 3060 Anderson Lane\, Ephraim\, WI\, 54211\, United States
ATTACH;FMTTYPE=image/jpeg:https://ephraim-doorcounty.com/wp-content/uploads/book-club.jpg
ORGANIZER;CN="Ephraim Historical Foundation":MAILTO:info@ephraim.org
END:VEVENT
BEGIN:VEVENT
DTSTART;TZID=America/Chicago:20240907T110000
DTEND;TZID=America/Chicago:20240907T190000
DTSTAMP:20260423T071247
CREATED:20240806T214230Z
LAST-MODIFIED:20240806T214230Z
UID:10000049-1725706800-1725735600@ephraim-doorcounty.com
SUMMARY:Vintage in the Village
DESCRIPTION:The Ephraim Historical Foundation and Rusty Dusty Vintage & Records welcome you\nfrom 11am to 7pm\, enjoy views of Eagle Harbor while shopping for fun vintage items. \nThere will be vintage clothing\, home decor\, furniture\, jewelry\, apparel!
URL:https://ephraim-doorcounty.com/local-event/vintage-in-the-village/
LOCATION:Ephraim Historical Foundation\, 3060 Anderson Lane\, Ephraim\, WI\, 54211\, United States
ATTACH;FMTTYPE=image/png:https://ephraim-doorcounty.com/wp-content/uploads/vintage-in-the-village-WEB.png
ORGANIZER;CN="Ephraim Historical Foundation":MAILTO:kanderson@ephraim.org
END:VEVENT
BEGIN:VEVENT
DTSTART;TZID=America/Chicago:20240801T100000
DTEND;TZID=America/Chicago:20240801T110000
DTSTAMP:20260423T071247
CREATED:20240517T043501Z
LAST-MODIFIED:20240627T183301Z
UID:10000042-1722506400-1722510000@ephraim-doorcounty.com
SUMMARY:Child's Play
DESCRIPTION:July 11: Adventures in Sailing at Anderson Dock\nJuly 18: Adventures in Natures at Pioneer Schoolhouse\nJuly 25: Document Your Adventures at EHF\nAugust 1: Adventures with Animals at EHF \nChild’s Play is a free program for children ages 4-10 to promote summer reading.\nJoin us for story time\, activities\, crafts\, and healthy snacks.\nRegister now at https://www.ephraim.org/childsplay or in person at the Ephraim Public Library or EHF.
URL:https://ephraim-doorcounty.com/local-event/childs-play/2024-08-01/
LOCATION:Ephraim Historical Foundation\, 3060 Anderson Lane\, Ephraim\, WI\, 54211\, United States
ATTACH;FMTTYPE=image/png:https://ephraim-doorcounty.com/wp-content/uploads/CHILDS-PLAY-WEB.png
ORGANIZER;CN="Ephraim Historical Foundation":MAILTO:kanderson@ephraim.org
END:VEVENT
BEGIN:VEVENT
DTSTART;TZID=America/Chicago:20240725T100000
DTEND;TZID=America/Chicago:20240725T110000
DTSTAMP:20260423T071247
CREATED:20240517T043501Z
LAST-MODIFIED:20240627T183301Z
UID:10000041-1721901600-1721905200@ephraim-doorcounty.com
SUMMARY:Child's Play
DESCRIPTION:July 11: Adventures in Sailing at Anderson Dock\nJuly 18: Adventures in Natures at Pioneer Schoolhouse\nJuly 25: Document Your Adventures at EHF\nAugust 1: Adventures with Animals at EHF \nChild’s Play is a free program for children ages 4-10 to promote summer reading.\nJoin us for story time\, activities\, crafts\, and healthy snacks.\nRegister now at https://www.ephraim.org/childsplay or in person at the Ephraim Public Library or EHF.
URL:https://ephraim-doorcounty.com/local-event/childs-play/2024-07-25/
LOCATION:Ephraim Historical Foundation\, 3060 Anderson Lane\, Ephraim\, WI\, 54211\, United States
ATTACH;FMTTYPE=image/png:https://ephraim-doorcounty.com/wp-content/uploads/CHILDS-PLAY-WEB.png
ORGANIZER;CN="Ephraim Historical Foundation":MAILTO:kanderson@ephraim.org
END:VEVENT
BEGIN:VEVENT
DTSTART;TZID=America/Chicago:20240718T100000
DTEND;TZID=America/Chicago:20240718T110000
DTSTAMP:20260423T071247
CREATED:20240517T043501Z
LAST-MODIFIED:20240627T183301Z
UID:10000040-1721296800-1721300400@ephraim-doorcounty.com
SUMMARY:Child's Play
DESCRIPTION:July 11: Adventures in Sailing at Anderson Dock\nJuly 18: Adventures in Natures at Pioneer Schoolhouse\nJuly 25: Document Your Adventures at EHF\nAugust 1: Adventures with Animals at EHF \nChild’s Play is a free program for children ages 4-10 to promote summer reading.\nJoin us for story time\, activities\, crafts\, and healthy snacks.\nRegister now at https://www.ephraim.org/childsplay or in person at the Ephraim Public Library or EHF.
URL:https://ephraim-doorcounty.com/local-event/childs-play/2024-07-18/
LOCATION:Ephraim Historical Foundation\, 3060 Anderson Lane\, Ephraim\, WI\, 54211\, United States
ATTACH;FMTTYPE=image/png:https://ephraim-doorcounty.com/wp-content/uploads/CHILDS-PLAY-WEB.png
ORGANIZER;CN="Ephraim Historical Foundation":MAILTO:kanderson@ephraim.org
END:VEVENT
BEGIN:VEVENT
DTSTART;TZID=America/Chicago:20240711T100000
DTEND;TZID=America/Chicago:20240711T110000
DTSTAMP:20260423T071247
CREATED:20240517T043501Z
LAST-MODIFIED:20240627T183301Z
UID:10000039-1720692000-1720695600@ephraim-doorcounty.com
SUMMARY:Child's Play
DESCRIPTION:July 11: Adventures in Sailing at Anderson Dock\nJuly 18: Adventures in Natures at Pioneer Schoolhouse\nJuly 25: Document Your Adventures at EHF\nAugust 1: Adventures with Animals at EHF \nChild’s Play is a free program for children ages 4-10 to promote summer reading.\nJoin us for story time\, activities\, crafts\, and healthy snacks.\nRegister now at https://www.ephraim.org/childsplay or in person at the Ephraim Public Library or EHF.
URL:https://ephraim-doorcounty.com/local-event/childs-play/2024-07-11/
LOCATION:Ephraim Historical Foundation\, 3060 Anderson Lane\, Ephraim\, WI\, 54211\, United States
ATTACH;FMTTYPE=image/png:https://ephraim-doorcounty.com/wp-content/uploads/CHILDS-PLAY-WEB.png
ORGANIZER;CN="Ephraim Historical Foundation":MAILTO:kanderson@ephraim.org
END:VEVENT
END:VCALENDAR