BEGIN:VCALENDAR
VERSION:2.0
PRODID:-//Ephraim - ECPv6.15.20//NONSGML v1.0//EN
CALSCALE:GREGORIAN
METHOD:PUBLISH
X-ORIGINAL-URL:https://ephraim-doorcounty.com
X-WR-CALDESC:Events for Ephraim
REFRESH-INTERVAL;VALUE=DURATION:PT1H
X-Robots-Tag:noindex
X-PUBLISHED-TTL:PT1H
BEGIN:VTIMEZONE
TZID:America/Chicago
BEGIN:DAYLIGHT
TZOFFSETFROM:-0600
TZOFFSETTO:-0500
TZNAME:CDT
DTSTART:20240310T080000
END:DAYLIGHT
BEGIN:STANDARD
TZOFFSETFROM:-0500
TZOFFSETTO:-0600
TZNAME:CST
DTSTART:20241103T070000
END:STANDARD
BEGIN:DAYLIGHT
TZOFFSETFROM:-0600
TZOFFSETTO:-0500
TZNAME:CDT
DTSTART:20250309T080000
END:DAYLIGHT
BEGIN:STANDARD
TZOFFSETFROM:-0500
TZOFFSETTO:-0600
TZNAME:CST
DTSTART:20251102T070000
END:STANDARD
BEGIN:DAYLIGHT
TZOFFSETFROM:-0600
TZOFFSETTO:-0500
TZNAME:CDT
DTSTART:20260308T080000
END:DAYLIGHT
BEGIN:STANDARD
TZOFFSETFROM:-0500
TZOFFSETTO:-0600
TZNAME:CST
DTSTART:20261101T070000
END:STANDARD
END:VTIMEZONE
BEGIN:VEVENT
DTSTART;TZID=America/Chicago:20250829T173000
DTEND;TZID=America/Chicago:20250829T190000
DTSTAMP:20260423T082455
CREATED:20250424T190417Z
LAST-MODIFIED:20250424T190544Z
UID:10000089-1756488600-1756494000@ephraim-doorcounty.com
SUMMARY:Opening Reception | Kickin' Up the Chroma
DESCRIPTION:These artists work with color in expressive and inventive ways. Chroma is defined as the purity or intensity of color\, and the work of these three artists notably “kicks it up.” All three artists draw inspiration from nature and enhance the chroma beyond what we typically perceive. Maltman and Gilchrist incorporate dizzying brushwork\, shifting perspectives\, layering\, and patterned elements\, defying many conventions associated with the landscape genre. Schwaller uses transparent glazes and opaque\, graphic carved elements that complement the painterly mark-making of Maltman and Gilchrist.
URL:https://ephraim-doorcounty.com/local-event/opening-reception-kickin-up-the-chroma/
LOCATION:Hardy Gallery\, 3083 Anderson Lane\, Ephraim\, WI\, 54211\, United States
ATTACH;FMTTYPE=image/png:https://ephraim-doorcounty.com/wp-content/uploads/hardy-chroma-event.png
ORGANIZER;CN="Hardy Gallery":MAILTO:info@thehardy.org
END:VEVENT
BEGIN:VEVENT
DTSTART;TZID=America/Chicago:20250711T173000
DTEND;TZID=America/Chicago:20250711T190000
DTSTAMP:20260423T082455
CREATED:20250424T190926Z
LAST-MODIFIED:20250424T192735Z
UID:10000090-1752255000-1752260400@ephraim-doorcounty.com
SUMMARY:Opening Reception | Community Mosaic + Collection Invitational
DESCRIPTION:Don’t Miss the unveiling of the wonderful Community Mosaic Project. In conjunction with the Collection Invitational exhibit\, The Community Mosaic Project\, on average\, consists of 300 6-inch by 6-inch works of art that collectively create a large-scale mosaic. All canvases are available to purchase for a $40 donation.
URL:https://ephraim-doorcounty.com/local-event/opening-reception-community-mosaic-collection-invitational/
LOCATION:Hardy Gallery\, 3083 Anderson Lane\, Ephraim\, WI\, 54211\, United States
ATTACH;FMTTYPE=image/png:https://ephraim-doorcounty.com/wp-content/uploads/hardy-opening-event.png
ORGANIZER;CN="Hardy Gallery":MAILTO:info@thehardy.org
END:VEVENT
BEGIN:VEVENT
DTSTART;TZID=America/Chicago:20250613T140000
DTEND;TZID=America/Chicago:20250613T150000
DTSTAMP:20260423T082455
CREATED:20250424T191247Z
LAST-MODIFIED:20250424T191247Z
UID:10000091-1749823200-1749826800@ephraim-doorcounty.com
SUMMARY:Hardy Gallery Juror Talk by Kristy Deetz
DESCRIPTION:Come listen to Kristy Deetz\, the Juror of the 63rd Annual Wall-to-Wall Juried Exhibit\, discuss her award choices at The Hardy Gallery.
URL:https://ephraim-doorcounty.com/local-event/hardy-gallery-juror-talk-by-kristy-deetz/
LOCATION:Hardy Gallery\, 3083 Anderson Lane\, Ephraim\, WI\, 54211\, United States
ATTACH;FMTTYPE=image/png:https://ephraim-doorcounty.com/wp-content/uploads/hardy-juror-talk.png
ORGANIZER;CN="Hardy Gallery":MAILTO:info@thehardy.org
END:VEVENT
BEGIN:VEVENT
DTSTART;TZID=America/Chicago:20250523T173000
DTEND;TZID=America/Chicago:20250523T190000
DTSTAMP:20260423T082455
CREATED:20250424T191638Z
LAST-MODIFIED:20250424T191638Z
UID:10000092-1748021400-1748026800@ephraim-doorcounty.com
SUMMARY:Opening Reception | 63rd Annual Wall-to-Wall Juried Exhibit
DESCRIPTION:A not-to-be-missed season starter and the Hardy’s most notable exhibits! Featuring a wide variety of media by local and regional artists.
URL:https://ephraim-doorcounty.com/local-event/opening-reception-63rd-annual-wall-to-wall-juried-exhibit/
LOCATION:Hardy Gallery\, 3083 Anderson Lane\, Ephraim\, WI\, 54211\, United States
ATTACH;FMTTYPE=image/png:https://ephraim-doorcounty.com/wp-content/uploads/hardy-opening.png
ORGANIZER;CN="Hardy Gallery":MAILTO:info@thehardy.org
END:VEVENT
END:VCALENDAR