BEGIN:VCALENDAR
VERSION:2.0
PRODID:-//Ephraim - ECPv6.15.20//NONSGML v1.0//EN
CALSCALE:GREGORIAN
METHOD:PUBLISH
X-ORIGINAL-URL:https://ephraim-doorcounty.com
X-WR-CALDESC:Events for Ephraim
REFRESH-INTERVAL;VALUE=DURATION:PT1H
X-Robots-Tag:noindex
X-PUBLISHED-TTL:PT1H
BEGIN:VTIMEZONE
TZID:America/Chicago
BEGIN:DAYLIGHT
TZOFFSETFROM:-0600
TZOFFSETTO:-0500
TZNAME:CDT
DTSTART:20240310T080000
END:DAYLIGHT
BEGIN:STANDARD
TZOFFSETFROM:-0500
TZOFFSETTO:-0600
TZNAME:CST
DTSTART:20241103T070000
END:STANDARD
BEGIN:DAYLIGHT
TZOFFSETFROM:-0600
TZOFFSETTO:-0500
TZNAME:CDT
DTSTART:20250309T080000
END:DAYLIGHT
BEGIN:STANDARD
TZOFFSETFROM:-0500
TZOFFSETTO:-0600
TZNAME:CST
DTSTART:20251102T070000
END:STANDARD
BEGIN:DAYLIGHT
TZOFFSETFROM:-0600
TZOFFSETTO:-0500
TZNAME:CDT
DTSTART:20260308T080000
END:DAYLIGHT
BEGIN:STANDARD
TZOFFSETFROM:-0500
TZOFFSETTO:-0600
TZNAME:CST
DTSTART:20261101T070000
END:STANDARD
END:VTIMEZONE
BEGIN:VEVENT
DTSTART;TZID=America/Chicago:20251004T100000
DTEND;TZID=America/Chicago:20251004T110000
DTSTAMP:20260424T102453
CREATED:20250604T045254Z
LAST-MODIFIED:20250604T045254Z
UID:10000096-1759572000-1759575600@ephraim-doorcounty.com
SUMMARY:Binkhaven Tour
DESCRIPTION:Reserve your spot for an exclusive tour of this privately owned architectural treasure tucked away here in Ephraim. Originally built in the 1960s in a Nordic revival style\, Binkhaven has endured to be one of the best-preserved examples of its architectural and interior design type. Inside\, visitors are immersed in rosemaling\, a Norwegian folk art literally translated as rose-painting. The ceilings and architectural features were painted by Sigmund Aarseth\, one of the most influential rosemaling painters of the twentieth century. Best known for his decades teaching at the Vesterheim Folk School\, Sigmund had a profound effect on rosemaling in America. Work from many of his most dedicated students fill the cabin\, including Ethel Kvalheim\, Karen Jensen\, and countless others who competed to achieve their gold medal at annual competitions and devoted decades to the craft. \nLearn more on binkhaven.com\nRegistration: https://www.ephraim.org/binkhaven-tours
URL:https://ephraim-doorcounty.com/local-event/binkhaven-tour-4/
LOCATION:Binkhaven\, 9696 Maple Grove Road\, Ephraim\, 54211\, United States
ATTACH;FMTTYPE=image/jpeg:https://ephraim-doorcounty.com/wp-content/uploads/BINKHAVEN-WEB.jpg
ORGANIZER;CN="Ephraim Historical Foundation":MAILTO:info@ephraim.org
END:VEVENT
BEGIN:VEVENT
DTSTART;TZID=America/Chicago:20251004T103000
DTEND;TZID=America/Chicago:20251004T120000
DTSTAMP:20260424T102453
CREATED:20250929T190639Z
LAST-MODIFIED:20250929T190640Z
UID:10002379-1759573800-1759579200@ephraim-doorcounty.com
SUMMARY:History Tram Tours
DESCRIPTION:Explore Ephraim on a fun\, scenic History Tram Tour! Guided by Ephraim Historical Foundation docents\, you’ll hear hidden stories of the village. Perfect for first-time visitors or longtime fans—great for all ages! A unique way to see the village! \nDaily Tram Tours occur Thursdays – Saturdays at 10:30 am. The Tram can fit 5 people plus the tram driver. Register in advance. Call our offices (920)- 854-9688 or on our website: https://www.ephraim.org/history-tram-tours
URL:https://ephraim-doorcounty.com/local-event/history-tram-tours-2/2025-10-04/
LOCATION:Anderson Barn Museum\, 3060 Anderson Lane\, Ephraim\, WI\, 54211\, United States
ATTACH;FMTTYPE=image/jpeg:https://ephraim-doorcounty.com/wp-content/uploads/tram.jpg
ORGANIZER;CN="Ephraim Historical Foundation":MAILTO:info@ephraim.org
END:VEVENT
BEGIN:VEVENT
DTSTART;TZID=America/Chicago:20251004T130000
DTEND;TZID=America/Chicago:20251004T140000
DTSTAMP:20260424T102453
CREATED:20250604T044446Z
LAST-MODIFIED:20250604T044446Z
UID:10000093-1759582800-1759586400@ephraim-doorcounty.com
SUMMARY:Binkhaven Tour
DESCRIPTION:Reserve your spot for an exclusive tour of this privately owned architectural treasure tucked away here in Ephraim. Originally built in the 1960s in a Nordic revival style\, Binkhaven has endured to be one of the best-preserved examples of its architectural and interior design type. Inside\, visitors are immersed in rosemaling\, a Norwegian folk art literally translated as rose-painting. The ceilings and architectural features were painted by Sigmund Aarseth\, one of the most influential rosemaling painters of the twentieth century. Best known for his decades teaching at the Vesterheim Folk School\, Sigmund had a profound effect on rosemaling in America. Work from many of his most dedicated students fill the cabin\, including Ethel Kvalheim\, Karen Jensen\, and countless others who competed to achieve their gold medal at annual competitions and devoted decades to the craft. \nLearn more on binkhaven.com\nRegistration: https://www.ephraim.org/binkhaven-tours
URL:https://ephraim-doorcounty.com/local-event/binkhaven-tour/
LOCATION:Binkhaven\, 9696 Maple Grove Road\, Ephraim\, 54211\, United States
ATTACH;FMTTYPE=image/jpeg:https://ephraim-doorcounty.com/wp-content/uploads/BINKHAVEN-WEB.jpg
ORGANIZER;CN="Ephraim Historical Foundation":MAILTO:info@ephraim.org
END:VEVENT
END:VCALENDAR